BEGIN:VCALENDAR
VERSION:2.0
PRODID:-//ChamberMaster//Event Calendar 2.0//EN
METHOD:PUBLISH
X-PUBLISHED-TTL:P1H
REFRESH-INTERVAL:P1H
CALSCALE:GREGORIAN
BEGIN:VTIMEZONE
TZID:America/New_York
BEGIN:DAYLIGHT
RRULE:FREQ=YEARLY;BYMONTH=3;BYDAY=2SU
DTSTART:20070101T000000
TZOFFSETFROM:-0500
TZOFFSETTO:-0400
TZNAME:Eastern Daylight Time
END:DAYLIGHT
BEGIN:STANDARD
RRULE:FREQ=YEARLY;BYMONTH=11;BYDAY=1SU
DTSTART:20070101T000000
TZOFFSETFROM:-0400
TZOFFSETTO:-0500
TZNAME:Eastern Standard Time
END:STANDARD
END:VTIMEZONE
BEGIN:VEVENT
DTSTART;TZID=America/New_York:20260601T103000
DTEND;TZID=America/New_York:20260601T190000
X-MICROSOFT-CDO-ALLDAYEVENT:FALSE
SUMMARY:Home of the Sparrow's 2026 Golf Outing
DESCRIPTION:Please visit the golf website: https://birdease.com/HOSGolfOuting
X-ALT-DESC;FMTTYPE=text/html:Please visit the golf website: https://birdease.com/HOSGolfOuting
LOCATION:440 Darby-Paoli Rd. Paoli PA 19301
UID:e.3137.1440146
SEQUENCE:3
DTSTAMP:20260423T094653Z
URL:https://business.chescochamber.org/event-calendar/Details/home-of-the-sparrow-s-2026-golf-outing-1704840?sourceTypeId=Hub
END:VEVENT
END:VCALENDAR
