BEGIN:VCALENDAR
VERSION:2.0
PRODID:-//ChamberMaster//Event Calendar 2.0//EN
METHOD:PUBLISH
X-PUBLISHED-TTL:P1H
REFRESH-INTERVAL:P1H
CALSCALE:GREGORIAN
BEGIN:VTIMEZONE
TZID:America/New_York
BEGIN:DAYLIGHT
RRULE:FREQ=YEARLY;BYMONTH=3;BYDAY=2SU
DTSTART:20070101T000000
TZOFFSETFROM:-0500
TZOFFSETTO:-0400
TZNAME:Eastern Daylight Time
END:DAYLIGHT
BEGIN:STANDARD
RRULE:FREQ=YEARLY;BYMONTH=11;BYDAY=1SU
DTSTART:20070101T000000
TZOFFSETFROM:-0400
TZOFFSETTO:-0500
TZNAME:Eastern Standard Time
END:STANDARD
END:VTIMEZONE
BEGIN:VEVENT
DTSTART;TZID=America/New_York:20260627T160000
DTEND;TZID=America/New_York:20260627T200000
X-MICROSOFT-CDO-ALLDAYEVENT:FALSE
SUMMARY:America 250 Community Celebration and Cornhole Tournament
DESCRIPTION:Join us for our America 250: Community Celebration & Cornhole Tournament   an unforgettable summer evening packed with fun\, food\, music\, and community spirit\, all supporting local at-risk youth Click to Learn More!
X-ALT-DESC;FMTTYPE=text/html:<!DOCTYPE html><html><head><title></title></head><body aria-disabled="false"><p>Join us for our America 250: Community Celebration &amp\; Cornhole Tournament &mdash\; an unforgettable summer evening packed with fun\, food\, music\, and community spirit\, all supporting local at-risk youth&nbsp\;</p><p><a fr-original-class="fr-green fr-strong" fr-original-style="" href="https://www.zeffy.com/en-US/ticketing/america-250-celebration-and-cornhole-tournament" rel="noopener noreferrer" style="user-select: auto\; font-weight: 700\; color: green\;" target="_blank">Click to Learn More!</a></p></body></html>
LOCATION:1256 Thornbury Rd West Chester PA 19382
UID:e.3137.1447245
SEQUENCE:3
DTSTAMP:20260423T092435Z
URL:https://business.chescochamber.org/event-calendar/Details/america-250-community-celebration-and-cornhole-tournament-1714106?sourceTypeId=Hub
END:VEVENT
END:VCALENDAR
